BEGIN:VCALENDAR
VERSION:2.0
PRODID:-//hacksw/handcal//NONSGML v1.0//EN
BEGIN:VEVENT
SUMMARY:EMPIRE MALT GEGE VAINQUEUR
UID:8c903a88-03ed-4a6d-87b1-a65381bf83fe
DTSTART:20260417T180000Z
DTEND:20260417T200000Z
LOCATION:Localisation empire du malt 31800 SAINT GAUDENS
CATEGORIES:Sportif
STATUS:
DESCRIPTION:<p>L'Empire du Malt, zone du centre
 Leclerc.</p>
 
 <p>Apportez vos fleches, c'est mieux.</p>
URL;VALUE=URI:https://woodpecker-dc.sportsregions.fr/evenements/2026/04/17/empire-malt-gege-vainqueur-2436525
END:VEVENT
END:VCALENDAR
